BEGIN:VCALENDAR
METHOD:PUBLISH
VERSION:2.0
PRODID:-//Eventilla iCal Syndication//NONSGML Liana//EN
BEGIN:VEVENT
UID:goW8b@eventilla.com
DTSTAMP:20260609T060000Z
DTSTART:20260609T060000Z
DTEND:20260609T080000Z
SUMMARY:ChatGPT 3 – mestaruusluokka ja agentit
DESCRIPTION:Eduhousen koulutuksiin osallistujilta laskutetaan ensimmäisen ilmoittautumisen jälkeen yksi 50 €:n koulutuslisenssi Loimun toimesta\, jolla saa osallistua niin moneen Eduhousen koulutukseen kuin haluaa vuoden 2026 aikana. \nKuvaus\nTekoälyä voi pyytää tekemään paljon erilaista sisältöä\, mutta se ei välttämättä tee hyvää sisältöä\, jos et osaa ohjata sitä oikeaan suuntaan ja käyttää sen kykyjä tehokkaasti. Oikealla ohjaamisella ja ominaisuuksien käytöllä tekoälyn kyky tehostaa työtä kasvaa merkittävästi ja siitä muodostuu erittäin hyödyllinen työväline!\nTavoite\nTämän kurssin tavoitteena on syventää osaamistasi ChatGPT:n käytössä\, sekä antaa sinulle työkalut ja tekniikat hyödyntävät tekoälyä vaativammissa projekteissa ja tehtävissä. Opit joukon tehokasta promptaamista\, sekä ChatGPT:n edistyneimpien työkalujen käyttöä\, kuten projektien ja agenttitilan hyödyntämistä.\nKenelle\nKurssi on suunnattu henkilöille\, jotka jo hallitsevat ChatGPT:n perusteet ja haluavat laajentaa osaamistaan. Suosittelemme tätä kurssia ennen käymään ”ChatGPT:n käyttö työn tehostajana!”-koulutuksessamme.\nOhjelmaversio\nTässä koulutuksessa käytetään uusinta ChatGPT-versiota. Löydät sen tämän linkin kautta ChatGPT. Suosittelemme kirjautumaan palveluun ennen koulutuksen alkua.\nLue ilmoittautumisen ohjeet ennen kuin ilmoittaudut koulutukseen.\n \nIlmoittaudu\n 
LOCATION:webinaari
URL:http://tapahtumat.loimu.fi/event/goW8b
END:VEVENT
END:VCALENDAR
