BEGIN:VCALENDAR
METHOD:PUBLISH
VERSION:2.0
PRODID:-//Eventilla iCal Syndication//NONSGML Liana//EN
BEGIN:VEVENT
UID:kOrBd@eventilla.com
DTSTAMP:20260827T060000Z
DTSTART:20260827T060000Z
DTEND:20260827T080000Z
SUMMARY:Word – tekstin muotoilujen tehokas hallinta
DESCRIPTION:Eduhousen koulutuksiin osallistujilta laskutetaan ensimmäisen ilmoittautumisen jälkeen yksi 50 €:n koulutuslisenssi Loimun toimesta\, jolla saa osallistua niin moneen Eduhousen koulutukseen kuin haluaa vuoden 2026 aikana. \nKuvaus\nOtsikon kokoa pitäisi muuttaa\, mutta on työlästä käydä otsikot läpi yksi kerrallaan? Tämän ei ole enää vuosiin tarvinnut olla ongelma! Teemojen ja tyylien avulla hallitset koko asiakirjasi muotoiluja helposti kerralla. Koulutuksessa opit muotoilemaan Word-asiakirjojesi tekstit nykyaikaisten toimintojen avulla ja tehostat tekstinkäsittelyäsi!\nTavoite\nKoulutuksen tavoitteena on oppia muotoilemaan teksti organisaation graafisen ohjeistuksen mukaiseksi kätevästi. Saat jokapäiväistä tekstinkäsittelyä helpottavia vinkkejä ja pidät asiakirjasi muotoilut helposti yhdenmukaisina!\nKenelle\nKoulutus Word-työpöytäsovelluksen käyttäjille\, jotka haluavat oppia hallitsemaan tekstin muotoilua nykyaikaisesti ja tehokkaasti. Koulutus ei edellytä aiempaa Word-osaamista\, mutta tietokoneen peruskäyttötaidosta on hyötyä.\nOhjelmaversio\nKoulutus soveltuu Word 2016 tai uudempien Windows-versioiden käyttäjille\, sekä Word for Mac 2019 tai uudemman Mac-version käyttäjälle. Teemat eivät toimi vanhemmissa versioissa\, eivätkä Wordin selainversiossa. Teemojen mukauttaminen toimii parhaiten Windows-versioilla\, Word for Macissä mukautusmahdollisuudet ovat rajalliset.\nLue ilmoittautumisen ohjeet ennen kuin ilmoittaudut koulutukseen.\nIlmoittaudu\n 
LOCATION:webinaari
URL:http://tapahtumat.loimu.fi/event/kOrBd
END:VEVENT
END:VCALENDAR
