BEGIN:VCALENDAR
METHOD:PUBLISH
VERSION:2.0
PRODID:-//Eventilla iCal Syndication//NONSGML Liana//EN
BEGIN:VEVENT
UID:oJgXw@eventilla.com
DTSTAMP:20260826T150000Z
DTSTART:20260826T150000Z
DTEND:20260826T160000Z
SUMMARY:Breaking Into the Finnish Job Market: A Complete Guide for International Professionals
DESCRIPTION:Two years in Finland\, dozens of applications\, zero interviews. Sounds familiar? The Finnish job market has unwritten rules that nobody tells you.\nLearn the insider secrets that help internationals land their dream jobs faster than they thought possible.\nWebinar speaker: Anna Weissenberg\n \nSign in
LOCATION:webinar
URL:http://tapahtumat.loimu.fi/event/oJgXw
END:VEVENT
END:VCALENDAR
