BEGIN:VCALENDAR
METHOD:PUBLISH
VERSION:2.0
PRODID:-//Eventilla iCal Syndication//NONSGML Liana//EN
BEGIN:VEVENT
UID:oJvRL@eventilla.com
DTSTAMP:20260428T060000Z
DTSTART:20260428T060000Z
DTEND:20260428T080000Z
SUMMARY:Tekoälyn käytön perusteet
DESCRIPTION:Eduhousen koulutuksiin osallistujilta laskutetaan ensimmäisen ilmoittautumisen jälkeen yksi 50 €:n koulutuslisenssi Loimun toimesta\, jolla saa osallistua niin moneen Eduhousen koulutukseen kuin haluaa vuoden 2026 aikana. \nKuvaus\nTekoälyn ymmärtäminen\, sen riskien tunnistaminen ja eettinen käyttö on entistä tärkeämpää nyt\, kun EU:n tekoälyasetus edellyttää tekoälyn käyttäjiltä tiettyä perusosaamista riskien välttämiseksi. Tämä käytännönläheinen kurssi opastaa sinut tekoälyn perusteisiin\, vastuulliseen käyttöön sekä tarjoaa ratkaisuja yleisiin ongelmiin.\nTavoite\nKurssilla opit\, mitä tekoäly oikeasti on\, miten sitä käytetään vastuullisesti ja turvallisesti sekä miten vältät yleiset virheet ja eettiset ongelmat tekoälyn hyödyntämisessä\, sekä opit käytännössä miten tekoälyjä ja kielimalleja käytetään.\nKenelle\nKurssi on suunnattu kaikille tekoälyn hyödyntämisestä kiinnostuneille\, jotka haluavat oppia sen turvallista käyttöä. Osallistuminen ei vaadi aikaisempaa tekoälyosaamista.\nOhjelmaversio\nKoulutus ei edellytä mitään tiettyä tekoälysovellusta\nLue ilmoittautumisen ohjeet ennen kuin ilmoittaudut koulutukseen.\n \nIlmoittaudu\n 
LOCATION:webinaari
URL:http://tapahtumat.loimu.fi/event/oJvRL
END:VEVENT
END:VCALENDAR
