BEGIN:VCALENDAR
METHOD:PUBLISH
VERSION:2.0
PRODID:-//Eventilla iCal Syndication//NONSGML Liana//EN
BEGIN:VEVENT
UID:opGpv@eventilla.com
DTSTAMP:20240117T070000Z
DTSTART:20240117T070000Z
DTEND:20240117T090000Z
SUMMARY:Sähköpostien kirjoittaminen tekoälyllä
DESCRIPTION:Tiivistelmä\nTehosta sähköpostiviestintääsi hyödyntämällä tekoälyä! Opettele ammattimaisten sähköpostien luonti\, muokkaus ja viimeistely AI:n avulla.\nKuvaus\nKurssin tavoitteena on opettaa osallistujat hyödyntämään tekoälyä sähköpostien kirjoittamisessa ja parantamaan viestintätaitojaan. Opit kirjoittamaan viestejä tekoälyllä\, tarkistamaan viestit ja räätälöimään niitä yleisöllesi sopivammiksi.\nKenelle\nKurssi on tarkoitettu ammattilaisille\, yrittäjille ja kaikille muille\, jotka haluavat tehostaa sähköpostiviestintäänsä. Ei vaadita aikaisempaa kokemusta tekoälystä.\nOhjelmaversio\nKurssilla käytetään OpenAI:n ChatGPT:tä ja Edge-sovelluksen sisäänrakennettua tekoälytoimintoa.\nLue ilmoittautumisohjeet ennen kuin ilmoittaudut koulutukseen.\nIlmoittaudu\n 
LOCATION:webinaari
URL:http://tapahtumat.loimu.fi/event/opGpv
END:VEVENT
END:VCALENDAR
