BEGIN:VCALENDAR
METHOD:PUBLISH
VERSION:2.0
PRODID:-//Eventilla iCal Syndication//NONSGML Liana//EN
BEGIN:VEVENT
UID:pJVdZ@eventilla.com
DTSTAMP:20260529T053000Z
DTSTART:20260529T053000Z
DTEND:20260612T090000Z
SUMMARY:Hiilijalanjälkilaskenta
DESCRIPTION:Suomi tähtää hiilineutraaliuteen vuoteen 2035 mennessä\, joten vähähiilisyyteen liittyvällä osaamisella on kasvavaa kysyntää. Yrityksillä on tarve määrittää ja seurata omaa hiilijalanjäljen suuruutta ja tehdä suunnitelma päästövähennystoimille. \nHiilijalanjäljen hallinta on osa organisaation vastuullisuutta. Laskennan avulla selvitetään\, paljonko organisaation toiminta kuormittaa ilmastoa\, ja miten päästöt jakautuvat eri toiminnoille. Näin tunnistetaan merkittävimmät päästöjä aiheuttavat tekijät ja selvitetään toteuttamiskelpoisimmat toimenpiteet päästöjen vähentämiseksi.\nYleisin menetelmä yritystasoiseen laskentaa on Greenhouse Gas -protokolla (GHG). Koulutuksessa käytetty hiilijalanjälkilaskennan malli sopii erityisesti pk-yrityksille. Koulutuksen tavoitteena on kehittää loimulaisten asiantuntijoiden osaamista hiilijalanjälkilaskennan perusteissa. \nKoulutuksen sisältö\nOrganisaatiotason hiilijalanjäljen laskennan perusteet:\n\nGHG-protokollan perusteet\nMitä ovat scopet 1\,2 ja 3?\nKulutustiedot ja päästökertoimet\, primääri- ja sekundääridatan käsitteet\nHiilijalanjäljen laskenta\nYleisimpien vapaasti saatavilla olevien laskurien esittely ja niiden käyttö\n\nPäästövähennykset\, päästövähennystavoitteet ja päästövähennyspolku:\n\nPäästövähennystoimien tunnistaminen\nPäästövähennystavoitteen asettaminen ja päästövähennyspolku\n\nAikataulu\nKoulutus toteutetaan kaksiosaisena\, perjantaiaamuina 29.5. klo 8.30-12.00 ja 12.6. klo 8.30-12.00.\nHinta\nKoulutuksen hinta on 90 €. Työnhakijoille\, vanhempainvapaalla oleville\, apurahatutkijoille tai opiskelijoille hinta on 45 €.\nKenelle koulutus sopii\nKoulutus sopii kaikille vastuullisuuden ja kestävyyden eli sustainability teemoista kiinnostuneille Loimun jäsenille. \nToteutus\nKoulutus pidetään Syklin Teamsissä.\nKouluttaja\nJoonas Raaska\, Suomen ympäristöopisto Sykli. Sykli on valtakunnallinen kouluttaja ja kehittäjä ja työelämän kestävän kehityksen edelläkävijä.\n 
LOCATION:webinaari
URL:http://tapahtumat.loimu.fi/event/pJVdZ
END:VEVENT
END:VCALENDAR
