BEGIN:VCALENDAR
METHOD:PUBLISH
VERSION:2.0
PRODID:-//Eventilla iCal Syndication//NONSGML Liana//EN
BEGIN:VEVENT
UID:prrp3@eventilla.com
DTSTAMP:20261014T060000Z
DTSTART:20261014T060000Z
DTEND:20261014T090000Z
SUMMARY:Excel advanced 1 – importing data and calculations
DESCRIPTION:Participants in Eduhouse training sessions will be invoiced a single €50 training license fee by Loimu after their first registration. This license allows unlimited participation in Eduhouse training sessions throughout 2026. Members exempt from the license fee are those classified in membership fee discount categories 1–3 due to low income at the time of invoicing\, as well as recent graduates.\nDescription\nIn Excel advanced 1 training\, we get familiar with the most important features of Excel\,  including importing data from different sources and calculation and functions. \nThis training is the first part of the Excel advanced course. Second part is its own separate training\, that focuses on dynamic calculations and Pivot.  \nGoal \nYou learn how to import data from different sources and analyze it with functions. We take a look at Xlookup\, Vlookup and Sumifs – functions and how to use functions inside of a function.\nTarget audience \nThe training is suitable for Excel users who already know the basics of Excel like how to use tables and how to calculate with different formulas. \nProgram version \nThis training is suitable for Excel 2013\, 2016\, 2019\, and 2022 for Windows and Excel 2016 on Mac.\nRead the registration instructions before signing up for the training. \n \nRegister
LOCATION:webinar
URL:http://tapahtumat.loimu.fi/event/prrp3
END:VEVENT
END:VCALENDAR
