BEGIN:VCALENDAR
METHOD:PUBLISH
VERSION:2.0
PRODID:-//Eventilla iCal Syndication//NONSGML Liana//EN
BEGIN:VEVENT
UID:prrw3@eventilla.com
DTSTAMP:20260903T060000Z
DTSTART:20260903T060000Z
DTEND:20260903T080000Z
SUMMARY:ChatGPT 4 – agentit ja GPT:t
DESCRIPTION:Eduhousen koulutuksiin osallistujilta laskutetaan ensimmäisen ilmoittautumisen jälkeen yksi 50 €:n koulutuslisenssi Loimun toimesta\, jolla saa osallistua niin moneen Eduhousen koulutukseen kuin haluaa vuoden 2026 aikana. \nKuvaus\nChatGPT on nopeasti kehittynyt työväline\, mutta sen mahdollisuudet jäävät usein hyödyntämättä niin arjessa kun työssäkin. Tällä koulutuksessa käsittelemme miten käytät ChatGPT:n edistyneimpiä toimintoja niin tietojen haussa kun muussakin.\n\nHuom! ChatGPT-koulutuksia on päivitetty syksylle 2026.Jos olet osallistunut ChatGPT 1–3 -koulutuksiin aiemmin\, voit silti hyvin osallistua ChatGPT 3–4 -koulutuksiin\, sillä sisältöjä on päivitetty vastaamaan ChatGPT:n uusimpia ominaisuuksia. Näissä osissa käydään läpi mm. prompteja\, projekteja\, agentteja ja muita edistyneempiä käyttötapoja.\nTavoite\nKoulutuksen tavoitteena on perehdyttää osallistujat ChatGPT:n edistyneisiin toimintoihin\, kuten agenttitilan hyödyntämiseen\, tiedonhakuun ja sisällön luomiseen\, sekä ChatGPT:n ohjaamiseen GPT:tä käyttämällä. Tavoitteena on\, että osallistujat osaavat käyttää ChatGPT:tä tehokkaasti sekä arjessa että työelämässä ja osaavat soveltaa sitä erilaisissa käytännön tilanteissa.\nKenelle\nKoulutus on suunnattu henkilöille\, jotka jo hallitsevat ChatGPT:n perusteet ja haluavat laajentaa osaamistaan. Suosittelemme osallistumaan tätä koulutusta ennen ChatGPT 1-3-koulutuksiin.\nOhjelmaversio\nTässä koulutuksessa käytetään uusinta ChatGPT-versiota. Löydät sen tämän linkin kautta ChatGPT. Suosittelemme kirjautumaan palveluun ennen koulutuksen alkua.\nLue ilmoittautumisen ohjeet ennen kuin ilmoittaudut koulutukseen.\n \nIlmoittaudu\n 
LOCATION:webinaari
URL:http://tapahtumat.loimu.fi/event/prrw3
END:VEVENT
END:VCALENDAR
