BEGIN:VCALENDAR
METHOD:PUBLISH
VERSION:2.0
PRODID:-//Eventilla iCal Syndication//NONSGML Liana//EN
BEGIN:VEVENT
UID:q7GE5@eventilla.com
DTSTAMP:20260505T100000Z
DTSTART:20260505T100000Z
DTEND:20260505T120000Z
SUMMARY:Microsoft 365 Copilot 3 – masterclass
DESCRIPTION:Participants in Eduhouse training sessions will be invoiced a single €50 training license fee by Loimu after their first registration. This license allows unlimited participation in Eduhouse training sessions throughout 2026. Members exempt from the license fee are those classified in membership fee discount categories 1–3 due to low income at the time of invoicing\, as well as recent graduates.\nDescription\nCopilot offers a wide range of functions that can make work more efficient and productive. This training focuses on practical ways to use its features to handle complex tasks with ease.\nGoal\nThe goal of this training is to strengthen participants’ skills in using Copilot as an advanced tool for improving productivity daily work. Participants will learn to use Copilot more effectively for creating and refining content\, using information from the web\, and designing well-structured prompts. The training also helps participants understand when to use Copilot Chat and when it is better to rely on the built-in Copilot features in Office applications\, as well as how to work efficiently within their limitations.\nTarget audience\nThis training is designed for participants who already have a solid understanding of Copilot basics and want to deepen their skills.\nIt is recommended to complete Microsoft 365 Copilot 1 – Basics and Microsoft 365 Copilot 2 – Enhancing everyday work before attending this training.\nProgram version\nThe training is conducted using Microsoft 365 Copilot either through a web browser or desktop application. Some topics require a separate Microsoft 365 Copilot subscription\, but the training is also suitable for those using only the work version of Copilot Chat included in Microsoft 365 work subscriptions.\nRead the registration instructions before signing up for the training. \n \nRegister
LOCATION:webinar
URL:http://tapahtumat.loimu.fi/event/q7GE5
END:VEVENT
END:VCALENDAR
