BEGIN:VCALENDAR
METHOD:PUBLISH
VERSION:2.0
PRODID:-//Eventilla iCal Syndication//NONSGML Liana//EN
BEGIN:VEVENT
UID:rlJ1O@eventilla.com
DTSTAMP:20260610T130000Z
DTSTART:20260610T130000Z
DTEND:20260610T180000Z
SUMMARY:Ilo irti yrittäjyydestä
DESCRIPTION:Perinteistä Ilo irti yrittäjyydestä -tapahtumaa vietetään tänä vuonna Vanhalla Ylioppilastalolla\, Mannerheimintie 3\, Helsinki 10.6.2026 klo 16.00–21.00\nOhjelmassa mm.\nRohkeudesta\, resilienssistä ja vapaudenkaipuustaAini Mäensivu on Kalligrafiastudion perustaja\, yrittäjämentori ja Diili 2024 -voittaja. Pian 10 vuoden yrittäjäura alkoi kun Aini perusti harrastuksensa ympärille luovan studion\, kasvoi pioneeriksi alallaan ja työskentelee nyt maailmanluokan huippubrändien kanssa reissaten talvet palmun alla. Puheenvuorossaan Aini kertoo kuinka niche-alallakin voi menestyä\, kun rakentaa bisnestä rohkeasti omaan visioonsa luottaen ja elämäntapa edellä.\nMitä tapahtuu\, kun uskaltaa tehdä toisin? Ideasta kaupan hyllylleKaisa Somerpalo\, yrittäjä\, tuotekehittäjä\, ruokavaikuttajaKaisa on kehittänyt useita menestyviä tuotteita ideasta kaupan hyllylle asti. Nyt hän kehittää omaa Sopu-tuotebrändiä\, joka puolittaa lihankäytön – ensimmäisenä lihapullissa. Kaisa oli mukana myös Suomalainen Menestysreseptin uusimmalla kaudella finaalissa.\nMilloin yrittäjällä on aikaa ajatella? Matka yrittäjyydestä tutkimukseenMiika Lipiäinen\, yrittäjä\, työelämäprofessori sekä yksi Kyrö Distilleryn perustajista.\nMiten rakentaa menestysbrändi?Jenni Ahokas\, Smuuti Skin\, ekonomisti ja Smuuti Skin kosmetiikkabrändin perustaja. Smuuti Skin on noussut nopeasti nuorten suosikkibrändiksi\, ja sen tuotteita on myyty jo yli miljoona kappaletta reilun vuoden aikana lanseerauksesta. Jenni Ahokas palkittiin vuonna 2025 valtakunnallisena Vuoden nuorena yrittäjänä tunnustuksena rohkeasta\, omannäköisestä ja vaikuttavasta yrittäjäpolustaan.\nBuffet ja vapaata verkostoitumista\nTapahtuma on maksuton\n \nIlmoittaudu
LOCATION:Vanha Ylioppilastalo\, Mannerheimintie 3\, 00100\, Helsinki
URL:http://tapahtumat.loimu.fi/event/rlJ1O
END:VEVENT
END:VCALENDAR
