BEGIN:VCALENDAR
METHOD:PUBLISH
VERSION:2.0
PRODID:-//Eventilla iCal Syndication//NONSGML Liana//EN
BEGIN:VEVENT
UID:vBBwo@eventilla.com
DTSTAMP:20260519T120000Z
DTSTART:20260519T120000Z
DTEND:20260519T130000Z
SUMMARY:Yritysmuodot ja Ukko.fi -palvelut
DESCRIPTION:Webinaarissa käydään läpi\n\nKuinka valita sopiva yritysmuoto\nUKKO.fi lyhyesti\nKevytyrittäjyys Y-tunnuksella tai ilman\nKevytyrittäjän vakuutukset ja hinnoittelu\nUKKO Yrittäjä -palvelu\n\nSofia Lindgren on UKKO.fi:n viestintäasiantuntija\, ja hänellä on laaja kokemus yrittäjien tarpeista ja haasteista. Sofia tarjoaa selkeitä ja käytännönläheisiä ratkaisuja\, ja nauttii erityisesti onnistuneiden asiakaskohtaamisten luomisesta\, joissa hän voi tukea yrittäjiä arjen perusasioissa. Näin yrittäjät voivat keskittyä omaan liiketoimintaansa. Työn tavoitteena on varmistaa\, että yrittäjyys on mahdollisimman helppoa ja että luotettavaa tietoa on helposti saatavilla.\n \nIlmoittaudu
LOCATION:webinaari
URL:http://tapahtumat.loimu.fi/event/vBBwo
END:VEVENT
END:VCALENDAR
