BEGIN:VCALENDAR
METHOD:PUBLISH
VERSION:2.0
PRODID:-//Eventilla iCal Syndication//NONSGML Liana//EN
BEGIN:VEVENT
UID:vNXB0@eventilla.com
DTSTAMP:20241009T120000Z
DTSTART:20241009T120000Z
DTEND:20241009T130000Z
SUMMARY:Yrityksen perustaminen
DESCRIPTION:Suunnitteletko yrityksen perustamista tai oletko toiminimiyrittäjä\, mutta suunnittelet yritysmuodon vaihtamista osakeyhtiöksi? \nKouluttajana Tampereen uusyrityskeskus Ensimetrin kouluttaja Marko Lehtimäki\n \nIlmoittaudu
LOCATION:webinaari
URL:http://tapahtumat.loimu.fi/event/vNXB0
END:VEVENT
END:VCALENDAR
