BEGIN:VCALENDAR
METHOD:PUBLISH
VERSION:2.0
PRODID:-//Eventilla iCal Syndication//NONSGML Liana//EN
BEGIN:VEVENT
UID:y6ed3@eventilla.com
DTSTAMP:20260507T110000Z
DTSTART:20260507T110000Z
DTEND:20260507T123000Z
SUMMARY:Hur kan arbetsgemenskapens psykologiska trygghet stärkas
DESCRIPTION:Arbetet kan stöda eller störa psykisk hälsa. Under denna förelektion får du konkreta perspektiv och verktyg för hur man kan stärka psykologisk trygghet i ett arbetslag – både genom ledarskap och genom varje teammedlems eget agerande.\nSyfte\nDu förstår betydelsen av psykologisk trygghet i teamarbete. Du får praktiska tips för ledarskap och utveckling av samspel i arbetslaget. Du lär dig hur psykisk hälsa och resiliens kan stärkas i vardagen.\nMålgrupp\nUtbildning är riktad åt teamansvariga\, förmän samt arbetarskyddsansvariga och -fullmäktige.\nStälle\nUtbildningen hålls som distansutbildning i Teams.\nUtbildare\nSom utbildare fungerar Anne Salovaara-Kero\, direktör på MIELI psykisk hälsa Österbotten. Anne har i över 25 år jobbat med människor i utmanande livssituation\, jobbar med arbetsvälmående som arbetshandledare och har 10 års ledarskapserfarenhet.\nAnmälning\nAnmäla dig senast 1.5.\nAnmäla dig
LOCATION:webbinarium
URL:http://tapahtumat.loimu.fi/event/y6ed3
END:VEVENT
END:VCALENDAR
