BEGIN:VCALENDAR
METHOD:PUBLISH
VERSION:2.0
PRODID:-//Eventilla iCal Syndication//NONSGML Liana//EN
BEGIN:VEVENT
UID:zWJJZ@eventilla.com
DTSTAMP:20250219T070000Z
DTSTART:20250219T070000Z
DTEND:20250219T100000Z
SUMMARY:Outlook – perusteet
DESCRIPTION:Eduhousen koulutuksiin osallistujilta laskutetaan ensimmäisen ilmoittautumisen jälkeen yksi 50 €:n koulutuslisenssi Loimun toimesta\, jolla saa osallistua niin moneen Eduhousen koulutukseen kuin haluaa vuoden 2025 aikana. \nKuvaus\nKoulutuksessa opit käyttämään Outlook-sähköpostiohjelmaa tehokkaasti eri ympäristöissä: työpöydällä\, puhelimessa ja pilvessä. Tutustut uusiin työskentelytapoihin\, oli käytössäsi sitten tietokoneelle asennettu Outlook-sovellus\, selaimen web-sovellus tai älypuhelimen appi.\nTavoite\nKoulutuksessa opit käyttämään Outlookin sähköpostia\, kalenteria ja tehtävien hallintaa eri ympäristöissä. Tutustut myös sähköpostimassojen hallinnointiin laitteessa kuin laitteessa ja automatisoimaan toistuvia toimintoja.\nKenelle\nOsallistujilta toivomme Outlookin peruskäytön hallintaa.\nOhjelmaversio\nKoulutuksessa käytämme Outlookin vanhempaa versiota.\nLue ilmoittautumisen ohjeet ennen kuin ilmoittaudut koulutukseen.\nIlmoittaudu\n 
LOCATION:webinaari
URL:http://tapahtumat.loimu.fi/event/zWJJZ
END:VEVENT
END:VCALENDAR
